BEGIN:VCALENDAR
VERSION:2.0
PRODID:icalendar-ruby
CALSCALE:GREGORIAN
METHOD:PUBLISH
BEGIN:VEVENT
DTSTAMP:20260424T182908Z
UID:70-346176@impactpa.church
DTSTART:20261028T220000Z
DTEND:20261028T230000Z
CLASS:PUBLIC
CREATED:20260424T135011
DESCRIPTION:NEXT GEN Youth Group
LAST-MODIFIED:20260424T135011
LOCATION:IMPACT Church\, Parkesburg\, PA
SUMMARY:NEXT GEN Youth Group
URL;VALUE=URI:https://impactpa.church/events/next-gen-youth-group--70/2026-
 10-28
END:VEVENT
END:VCALENDAR
