BEGIN:VCALENDAR
VERSION:2.0
PRODID:icalendar-ruby
CALSCALE:GREGORIAN
METHOD:PUBLISH
BEGIN:VEVENT
DTSTAMP:20260424T153509Z
UID:70-345960@impactpa.church
DTSTART:20261014T220000Z
DTEND:20261014T230000Z
CLASS:PUBLIC
CREATED:20260424T110325
DESCRIPTION:NEXT GEN Youth Group
LAST-MODIFIED:20260424T110325
LOCATION:IMPACT Church\, Parkesburg\, PA
SUMMARY:NEXT GEN Youth Group
URL;VALUE=URI:https://impactpa.church/events/next-gen-youth-group--70/2026-
 10-14
END:VEVENT
END:VCALENDAR
