BEGIN:VCALENDAR
VERSION:2.0
PRODID:icalendar-ruby
CALSCALE:GREGORIAN
METHOD:PUBLISH
BEGIN:VEVENT
DTSTAMP:20260424T051453Z
UID:70-345525@impactpa.church
DTSTART:20260826T220000Z
DTEND:20260826T230000Z
CLASS:PUBLIC
CREATED:20260423T224205
DESCRIPTION:NEXT GEN Youth Group
LAST-MODIFIED:20260423T224205
LOCATION:IMPACT Church\, Parkesburg\, PA
SUMMARY:NEXT GEN Youth Group
URL;VALUE=URI:https://impactpa.church/events/next-gen-youth-group--70/2026-
 08-26
END:VEVENT
END:VCALENDAR
