BEGIN:VCALENDAR
VERSION:2.0
PRODID:icalendar-ruby
CALSCALE:GREGORIAN
METHOD:PUBLISH
BEGIN:VEVENT
DTSTAMP:20260423T165249Z
UID:70-344661@impactpa.church
DTSTART:20260701T220000Z
DTEND:20260701T230000Z
CLASS:PUBLIC
CREATED:20260423T110259
DESCRIPTION:NEXT GEN Youth Group
LAST-MODIFIED:20260423T110259
LOCATION:IMPACT Church\, Parkesburg\, PA
SUMMARY:NEXT GEN Youth Group
URL;VALUE=URI:https://impactpa.church/events/next-gen-youth-group--70/2026-
 07-01
END:VEVENT
END:VCALENDAR
