BEGIN:VCALENDAR
VERSION:2.0
PRODID:icalendar-ruby
CALSCALE:GREGORIAN
METHOD:PUBLISH
BEGIN:VEVENT
DTSTAMP:20260423T134325Z
UID:70-344445@impactpa.church
DTSTART:20260617T220000Z
DTEND:20260617T230000Z
CLASS:PUBLIC
CREATED:20260423T081012
DESCRIPTION:NEXT GEN Youth Group
LAST-MODIFIED:20260423T081012
LOCATION:IMPACT Church\, Parkesburg\, PA
SUMMARY:NEXT GEN Youth Group
URL;VALUE=URI:https://impactpa.church/events/next-gen-youth-group--70/2026-
 06-17
END:VEVENT
END:VCALENDAR
