BEGIN:VCALENDAR
VERSION:2.0
PRODID:icalendar-ruby
CALSCALE:GREGORIAN
METHOD:PUBLISH
BEGIN:VEVENT
DTSTAMP:20260423T103810Z
UID:70-344229@impactpa.church
DTSTART:20260603T220000Z
DTEND:20260603T230000Z
CLASS:PUBLIC
CREATED:20260422T223954
DESCRIPTION:NEXT GEN Youth Group
LAST-MODIFIED:20260422T223954
LOCATION:IMPACT Church\, Parkesburg\, PA
SUMMARY:NEXT GEN Youth Group
URL;VALUE=URI:https://impactpa.church/events/next-gen-youth-group--70/2026-
 06-03
END:VEVENT
END:VCALENDAR
