BEGIN:VCALENDAR
VERSION:2.0
PRODID:icalendar-ruby
CALSCALE:GREGORIAN
METHOD:PUBLISH
BEGIN:VEVENT
DTSTAMP:20260421T190715Z
UID:70-342313@impactpa.church
DTSTART:20260520T220000Z
DTEND:20260520T230000Z
CLASS:PUBLIC
CREATED:20260421T131048
DESCRIPTION:NEXT GEN Youth Group
LAST-MODIFIED:20260421T131048
LOCATION:IMPACT Church\, Parkesburg\, PA
SUMMARY:NEXT GEN Youth Group
URL;VALUE=URI:https://impactpa.church/events/next-gen-youth-group--70/2026-
 05-20
END:VEVENT
END:VCALENDAR
